BEGIN:VCALENDAR
VERSION:2.0
PRODID:-//LOCKE - ECPv6.15.18//NONSGML v1.0//EN
CALSCALE:GREGORIAN
METHOD:PUBLISH
X-ORIGINAL-URL:https://locke.hamburg
X-WR-CALDESC:Events for LOCKE
REFRESH-INTERVAL;VALUE=DURATION:PT1H
X-Robots-Tag:noindex
X-PUBLISHED-TTL:PT1H
BEGIN:VTIMEZONE
TZID:UTC
BEGIN:STANDARD
TZOFFSETFROM:+0000
TZOFFSETTO:+0000
TZNAME:UTC
DTSTART:20230101T000000
END:STANDARD
END:VTIMEZONE
BEGIN:VEVENT
DTSTART;TZID=UTC:20240323T180000
DTEND;TZID=UTC:20240324T010000
DTSTAMP:20260421T163316
CREATED:20240309T152059Z
LAST-MODIFIED:20240309T152427Z
UID:193-1711216800-1711242000@locke.hamburg
SUMMARY:nicoflash & Venen
DESCRIPTION:
URL:https://locke.hamburg/event/nicoflash-venen/
END:VEVENT
BEGIN:VEVENT
DTSTART;TZID=UTC:20240324T160000
DTEND;TZID=UTC:20240324T220000
DTSTAMP:20260421T163316
CREATED:20240307T191327Z
LAST-MODIFIED:20240322T132742Z
UID:135-1711296000-1711317600@locke.hamburg
SUMMARY:Ambient w/ chrismaxpaul & elisa puerkner (Videowork by cora durmann)
DESCRIPTION:
URL:https://locke.hamburg/event/ambient-w-chrismaxpaul/
END:VEVENT
END:VCALENDAR