BEGIN:VCALENDAR
VERSION:2.0
PRODID:-//LOCKE - ECPv6.15.18//NONSGML v1.0//EN
CALSCALE:GREGORIAN
METHOD:PUBLISH
X-ORIGINAL-URL:https://locke.hamburg
X-WR-CALDESC:Events for LOCKE
REFRESH-INTERVAL;VALUE=DURATION:PT1H
X-Robots-Tag:noindex
X-PUBLISHED-TTL:PT1H
BEGIN:VTIMEZONE
TZID:UTC
BEGIN:STANDARD
TZOFFSETFROM:+0000
TZOFFSETTO:+0000
TZNAME:UTC
DTSTART:20230101T000000
END:STANDARD
END:VTIMEZONE
BEGIN:VEVENT
DTSTART;TZID=UTC:20240511T140000
DTEND;TZID=UTC:20240511T220000
DTSTAMP:20260421T130759
CREATED:20240505T194818Z
LAST-MODIFIED:20240505T194818Z
UID:370-1715436000-1715464800@locke.hamburg
SUMMARY:Schiffe Versenken (Golden Pudel x Locke Open Air) w/ BIELEFELD MURDER BOYS\, yung_womb b2b Nissa\, Margo\, Laetizia\, Elia Haze b2b DJ Source\, 11Schnull b2b Loi & Boas b2b Roof
DESCRIPTION:https://soundcloud.com/nissasc \n \n \n \n \n \n \n 
URL:https://locke.hamburg/event/schiffe-versenken-golden-pudel-x-locke-open-air-w-bielefeld-murder-boys-yung_womb-b2b-nissa-margo-laetizia-elia-haze-b2b-dj-source-11schnull-b2b-loi-boas-b2b-roof/
END:VEVENT
END:VCALENDAR