BEGIN:VCALENDAR
VERSION:2.0
PRODID:-//LOCKE - ECPv6.15.18//NONSGML v1.0//EN
CALSCALE:GREGORIAN
METHOD:PUBLISH
X-ORIGINAL-URL:https://locke.hamburg
X-WR-CALDESC:Events for LOCKE
REFRESH-INTERVAL;VALUE=DURATION:PT1H
X-Robots-Tag:noindex
X-PUBLISHED-TTL:PT1H
BEGIN:VTIMEZONE
TZID:UTC
BEGIN:STANDARD
TZOFFSETFROM:+0000
TZOFFSETTO:+0000
TZNAME:UTC
DTSTART:20230101T000000
END:STANDARD
END:VTIMEZONE
BEGIN:VEVENT
DTSTART;TZID=UTC:20240704T180000
DTEND;TZID=UTC:20240705T010000
DTSTAMP:20260421T094621
CREATED:20240702T143907Z
LAST-MODIFIED:20240702T143907Z
UID:565-1720116000-1720141200@locke.hamburg
SUMMARY:Open Jam Session: dkF (der kleine Freitag) extended synth gathering by Galerie Pfund & Dollar
DESCRIPTION:
URL:https://locke.hamburg/event/open-jam-session-dkf-der-kleine-freitag-extended-synth-gathering-by-galerie-pfund-dollar/
END:VEVENT
END:VCALENDAR