BEGIN:VCALENDAR
VERSION:2.0
PRODID:-//LOCKE - ECPv6.15.18//NONSGML v1.0//EN
CALSCALE:GREGORIAN
METHOD:PUBLISH
X-WR-CALNAME:LOCKE
X-ORIGINAL-URL:https://locke.hamburg
X-WR-CALDESC:Events for LOCKE
REFRESH-INTERVAL;VALUE=DURATION:PT1H
X-Robots-Tag:noindex
X-PUBLISHED-TTL:PT1H
BEGIN:VTIMEZONE
TZID:UTC
BEGIN:STANDARD
TZOFFSETFROM:+0000
TZOFFSETTO:+0000
TZNAME:UTC
DTSTART:20230101T000000
END:STANDARD
END:VTIMEZONE
BEGIN:VEVENT
DTSTART;TZID=UTC:20240801T180000
DTEND;TZID=UTC:20240801T220000
DTSTAMP:20260421T082112
CREATED:20240731T134558Z
LAST-MODIFIED:20240731T134558Z
UID:658-1722535200-1722549600@locke.hamburg
SUMMARY:Golden Pudel Pre-Sesh w/ Remoto Rec. presented by: N:in\, Good News & Christian Kluge
DESCRIPTION:
URL:https://locke.hamburg/event/golden-pudel-pre-sesh-w-remoto-rec-presented-by-nin-good-news-christian-kluge/
END:VEVENT
BEGIN:VEVENT
DTSTART;TZID=UTC:20240801T220000
DTEND;TZID=UTC:20240803T010000
DTSTAMP:20260421T082112
CREATED:20240731T133841Z
LAST-MODIFIED:20240801T193351Z
UID:646-1722549600-1722646800@locke.hamburg
SUMMARY:Fovian
DESCRIPTION:https://soundcloud.com/fovian
URL:https://locke.hamburg/event/vinyltaxi-9/
END:VEVENT
END:VCALENDAR